BEGIN:VCALENDAR
PRODID:-//eluceo/ical//2.0/EN
VERSION:2.0
CALSCALE:GREGORIAN
BEGIN:VEVENT
UID:cb96d89c5024095e86e564035999bb30
DTSTAMP:20260421T181252Z
SUMMARY:Yom Ha'atzmaut Oneg Shabbat - Borochov Cultural Centre
DESCRIPTION:UJA Federation of Greater Toronto\nYom Ha'Atzmaut Event Calenda
 r\nhttps://jewishtoronto.com/tci/yom-haatzmaut-oneg-shabbat-borochov-cultu
 ral-centre\n\nYOM HA’ATZMAUT ONEG SHABBAT – Marking Israel’s 67th bi
 rthday\;  \n\nIsrael: Intersecting Viewpoints
DTSTART;TZID=America/Toronto:20150424T193000
DTEND;TZID=America/Toronto:20150424T213000
END:VEVENT
END:VCALENDAR
