BEGIN:VCALENDAR
PRODID:-//eluceo/ical//2.0/EN
VERSION:2.0
CALSCALE:GREGORIAN
BEGIN:VEVENT
UID:c7e07a145e9759a12dc45bc3eef14413
DTSTAMP:20260420T080958Z
SUMMARY:Yom Haatzmaut Israel Flag Raising at Toronto City Hall
DESCRIPTION:UJA Federation of Greater Toronto\nYom Ha'Atzmaut Event Calenda
 r\nhttps://jewishtoronto.com/tci/yom-haatzmaut-israel-flag-raising-at-toro
 nto-city-hall\n\nYom Haatzmaut Israel Flag Raising at Toronto City Hall
DTSTART;TZID=America/Toronto:20150423T100000
DTEND;TZID=America/Toronto:20150423T110000
END:VEVENT
END:VCALENDAR
