BEGIN:VCALENDAR
PRODID:-//eluceo/ical//2.0/EN
VERSION:2.0
CALSCALE:GREGORIAN
BEGIN:VEVENT
UID:c23f7b1e64cc0fdcecee5f22ffb0292e
DTSTAMP:20260423T020003Z
SUMMARY:Yom Haatzmaut Israel Flag Raising at Queen's Park
DESCRIPTION:UJA Federation of Greater Toronto\nYom Ha'Atzmaut Event Calenda
 r\nhttps://jewishtoronto.com/tci/yom-haatzmaut-israel-flag-raising-at-quee
 ns-park\n\nYom Haatzmaut Israel Flag Raising at Queen's Park\n\nLegislativ
 e Building\, Queen's Park\, 111 Wellesley Street West\, Toronto 
DTSTART;TZID=America/Toronto:20150423T120000
DTEND;TZID=America/Toronto:20150423T130000
END:VEVENT
END:VCALENDAR
