BEGIN:VCALENDAR
PRODID:-//eluceo/ical//2.0/EN
VERSION:2.0
CALSCALE:GREGORIAN
BEGIN:VEVENT
UID:bc22d131578eb4ee207c4ae206430ee0
DTSTAMP:20260423T165442Z
SUMMARY:Tel Aviv Street Party
DESCRIPTION:UJA Federation of Greater Toronto\nYom Ha'Atzmaut Event Calenda
 r\nhttps://jewishtoronto.com/tci/tel-aviv-street-party\n\nTel Aviv Street 
 Party - April 23\n\nBeth David Synagogue
DTSTART;TZID=America/Toronto:20150423T180000
DTEND;TZID=America/Toronto:20150423T210000
END:VEVENT
END:VCALENDAR
