BEGIN:VCALENDAR
PRODID:-//eluceo/ical//2.0/EN
VERSION:2.0
CALSCALE:GREGORIAN
BEGIN:VEVENT
UID:d34fbbd13a2e722473224f6a1289ead6
DTSTAMP:20260426T024821Z
SUMMARY:Talking About Israel
DESCRIPTION:UJA Federation of Greater Toronto\nYom Ha'Atzmaut Event Calenda
 r\nhttps://jewishtoronto.com/tci/talking-about-israel\n\nTalking About Isr
 ael - Beth Tzedec Congregation\n\nCanadian Friends of the Shalom Hartman 
 Institute in partnership with The Canadian Jewish News \n\n \n\n 
DTSTART;TZID=America/Toronto:20150427T193000
DTEND;TZID=America/Toronto:20150427T213000
END:VEVENT
END:VCALENDAR
