BEGIN:VCALENDAR
PRODID:-//eluceo/ical//2.0/EN
VERSION:2.0
CALSCALE:GREGORIAN
BEGIN:VEVENT
UID:29c6849767efad87e6dbbf306ac511fc
DTSTAMP:20260426T001021Z
SUMMARY:Service & D'var Israel with Choir 
DESCRIPTION:UJA Federation of Greater Toronto\nYom Ha'Atzmaut Event Calenda
 r\nhttps://jewishtoronto.com/tci/service-dvar-israel-with-choir\n\nService
  & D'var Israel with Choir - Scholar-in-Residence Rabbi Larry Englander sp
 eaking on "The MIddle East Conflict Through Maps - Which Map Tells Our Sto
 ry?"
DTSTART;TZID=America/Toronto:20150424T200000
DTEND;TZID=America/Toronto:20150424T200000
END:VEVENT
END:VCALENDAR
