BEGIN:VCALENDAR
PRODID:-//eluceo/ical//2.0/EN
VERSION:2.0
CALSCALE:GREGORIAN
BEGIN:VEVENT
UID:779a4aa2934ca9d7089b48cc4ad8d0eb
DTSTAMP:20260420T192446Z
SUMMARY:Rooted in Truth: Ben M. Freeman on Jewish Indigenous Identity & Jew
 -hatred
DESCRIPTION:UJA Federation of Greater Toronto\nYom Ha'Atzmaut Event Calenda
 r\nhttps://jewishtoronto.com/tci/rooted-in-truth-ben-m-freeman-on-jewish-i
 ndigenous-identity--jew-hatred-1728623130-478488\n\nJoin us as Dana Levens
 on delves into complex topics of Jewish Indigenous identity and Jew-hatred
  in a candid interview with Ben M. Freeman
DTSTART;TZID=America/Toronto:20241109T183000
DTEND;TZID=America/Toronto:20241109T220000
END:VEVENT
END:VCALENDAR
