BEGIN:VCALENDAR
PRODID:-//eluceo/ical//2.0/EN
VERSION:2.0
CALSCALE:GREGORIAN
BEGIN:VEVENT
UID:a1b08841bed37619db96c87815e177d0
DTSTAMP:20260421T120135Z
SUMMARY:Movie night – Above and Beyond
DESCRIPTION:UJA Federation of Greater Toronto\nYom Ha'Atzmaut Event Calenda
 r\nhttps://jewishtoronto.com/tci/movie-night-above-and-beyond\n\nMovie nig
 ht – Above and Beyond @ Westmount Shul \n\nMore infor here.
DTSTART;TZID=America/Toronto:20150422T200000
DTEND;TZID=America/Toronto:20150422T220000
END:VEVENT
END:VCALENDAR
