BEGIN:VCALENDAR
PRODID:-//eluceo/ical//2.0/EN
VERSION:2.0
CALSCALE:GREGORIAN
BEGIN:VEVENT
UID:ec23c8b953c2016f09adedad069b6299
DTSTAMP:20260421T155228Z
SUMMARY:Jroots Holiday Celebration PJCC
DESCRIPTION:UJA Federation of Greater Toronto\nYom Ha'Atzmaut Event Calenda
 r\nhttps://jewishtoronto.com/tci/jroots-holiday-celebration-pjcc\n\nJroots
  Holiday Celebration PJCC
DTSTART;TZID=America/Toronto:20150419T100000
DTEND;TZID=America/Toronto:20150419T120000
END:VEVENT
END:VCALENDAR
