BEGIN:VCALENDAR
PRODID:-//eluceo/ical//2.0/EN
VERSION:2.0
CALSCALE:GREGORIAN
BEGIN:VEVENT
UID:5ba88b4f7d8367da82fea92d7aeedd93
DTSTAMP:20260419T203502Z
SUMMARY:Get Your Hands on Israel
DESCRIPTION:UJA Federation of Greater Toronto\nYom Ha'Atzmaut Event Calenda
 r\nhttps://jewishtoronto.com/tci/get-your-hands-on-israel\n\nCome celebrat
 e Yom Ha'Atzmaut with an interactive family program - Temple Har Tikvah\n
 \n 
DTSTART;TZID=America/Toronto:20150419T130000
DTEND;TZID=America/Toronto:20150419T150000
END:VEVENT
END:VCALENDAR
