BEGIN:VCALENDAR
PRODID:-//eluceo/ical//2.0/EN
VERSION:2.0
CALSCALE:GREGORIAN
BEGIN:VEVENT
UID:3cd1fdda99ea53eccbf7fa81c70a1c27
DTSTAMP:20260425T201934Z
SUMMARY:Celebrating Yom HaAtzmaut - community BBQ
DESCRIPTION:UJA Federation of Greater Toronto\nYom Ha'Atzmaut Event Calenda
 r\nhttps://jewishtoronto.com/tci/celebrating-yom-haatzmaut-community-bbq\n
 \nCelebrating Yom HaAtzmaut - community BBQ\n\nOrganizer: JAM - Jewish and
  Modern\n\n6 Rockwood Crescent\n\nSee the Facebook page\n\n\n\n 
DTSTART;TZID=America/Toronto:20150423T190000
DTEND;TZID=America/Toronto:20150423T210000
END:VEVENT
END:VCALENDAR
