BEGIN:VCALENDAR
PRODID:-//eluceo/ical//2.0/EN
VERSION:2.0
CALSCALE:GREGORIAN
BEGIN:VEVENT
UID:bae0ec3416476aa4c96213484dd237d7
DTSTAMP:20260422T131611Z
SUMMARY:Beth Tzedec Congregation Book and Film Club Review
DESCRIPTION:UJA Federation of Greater Toronto\nYom Ha'Atzmaut Event Calenda
 r\nhttps://jewishtoronto.com/tci/beth-tzedec-congregation-book-and-film-cl
 ub-review-1-136895\n\nThe Golem and the Jinni by Helen Wecker. Reviewer Ca
 thy Tile.  \n\nLunch at 1:00 pm | Review at 1:30pm.\n\nCost $20 at the do
 or.\n\nSponsored by  Viva Thornhill Woods Retirement Residence. \n\nPlea
 se RSVP\n\nFor more details please visit beth-tzedec.org
DTSTART;TZID=America/Toronto:20150420T130000
DTEND;TZID=America/Toronto:20150420T140000
END:VEVENT
END:VCALENDAR
