BEGIN:VCALENDAR
PRODID:-//eluceo/ical//2.0/EN
VERSION:2.0
CALSCALE:GREGORIAN
BEGIN:VEVENT
UID:017501606ada70db17d608e13a893e54
DTSTAMP:20260421T202748Z
SUMMARY:Bar Lectures - Erin Cohen
DESCRIPTION:UJA Federation of Greater Toronto\nYom Ha'Atzmaut Event Calenda
 r\nhttps://jewishtoronto.com/tci/bar-lectures-erin-cohen\n\nBar Lectures\n
 \nErin Cohen - Associate Director\, Digital Communications and Marketing\,
  CIJA\n\n 
DTSTART;TZID=America/Toronto:20150426T190000
DTEND;TZID=America/Toronto:20150426T210000
END:VEVENT
END:VCALENDAR
