BEGIN:VCALENDAR
PRODID:-//eluceo/ical//2.0/EN
VERSION:2.0
CALSCALE:GREGORIAN
BEGIN:VEVENT
UID:bcae0da9b19221560e6b21420e4c5a7c
DTSTAMP:20260421T191043Z
SUMMARY:Adath Israel Congregation Young Families Celebrate Yom Ha'atzmaut
DESCRIPTION:UJA Federation of Greater Toronto\nYom Ha'Atzmaut Event Calenda
 r\nhttps://jewishtoronto.com/tci/adath-israel-congregation-young-families-
 celebrate-yom-haatzmaut\n\nAdath Israel Congregation Young Families Celebr
 ate Yom Ha'atzmaut
DTSTART;TZID=America/Toronto:20150425T103000
DTEND;TZID=America/Toronto:20150425T133000
END:VEVENT
END:VCALENDAR
