BEGIN:VCALENDAR
PRODID:-//eluceo/ical//2.0/EN
VERSION:2.0
CALSCALE:GREGORIAN
BEGIN:VEVENT
UID:2a7ed5816f8b96f6d809c99179ca042c
DTSTAMP:20260422T164016Z
SUMMARY:2044 In Jerusalem: creative writing workshop
DESCRIPTION:UJA Federation of Greater Toronto\nYom Ha'Atzmaut Event Calenda
 r\nhttps://jewishtoronto.com/tci/2044-in-jerusalem-creative-writing-worksh
 op\n\n2044 In Jerusalem: creative writing workshop\n\nAs the state of Isra
 el celebrates its 67th year\, the status of Jerusalem\, Israel’s declare
 d capital\, remains at the centre of international debate and negotiations
 . Yet\, rather than political statements\, the inhabitants of Jerusalem mi
 ght be in need of a vision of their life in the Jerusalem of the near futu
 re\, a vision to which they too can look forward. How will everyday life i
 n Jerusalem of 2044 look like?\n\n\nThe initial UN resolution...
DTSTART;TZID=America/Toronto:20150420T190000
DTEND;TZID=America/Toronto:20150420T203000
END:VEVENT
END:VCALENDAR
