BEGIN:VCALENDAR
PRODID:-//eluceo/ical//2.0/EN
VERSION:2.0
CALSCALE:GREGORIAN
BEGIN:VEVENT
UID:319f8ebdd1fee0bc2c45481840ff5366
DTSTAMP:20260422T113049Z
SUMMARY:United Jewish People's Order Third Seyder
DESCRIPTION:UJA Federation of Greater Toronto\nOntario Jewish Heritage Mont
 h Calendar\nhttps://jewishtoronto.com/ojhm-calendar/united-jewish-peoples-
 order-third-seyder-1461093192\n\nPassover — one of the most significant 
 holidays in Jewish traditions — is particularly meaningful to our secula
 r humanist tradition. We retell the story of the exodus of the Hebrews fro
 m Egyptian slavery to freedom\, making links between that history and cont
 emporary times and current-day struggles for freedom and social justice.\n
 \nThis event is open to the public.   Includes a secular humanistic Haggod
 eh reading\, music and a traditional full-course Passover dinner (vegetari
 an option). ...
DTSTART;TZID=America/Toronto:20160501T160000
DTEND;TZID=America/Toronto:20160501T193000
END:VEVENT
END:VCALENDAR
