BEGIN:VCALENDAR
PRODID:-//eluceo/ical//2.0/EN
VERSION:2.0
CALSCALE:GREGORIAN
BEGIN:VEVENT
UID:efd09d73a488d420c2ecd6e8495eac10
DTSTAMP:20260424T125348Z
SUMMARY:Kosher Kush Comedy @ Yuk Yuk's
DESCRIPTION:UJA Federation of Greater Toronto\nOntario Jewish Heritage Mont
 h Calendar\nhttps://jewishtoronto.com/ojhm-calendar/kosher-kush-comedy--yu
 k-yuks-1546530865\n\nJoin over 300 members of the Jewish Community for a n
 ight of fun and laughter. \nFeaturing Toronto's Best Jewish Comedic Talent
 . \n
DTSTART;TZID=America/Toronto:20190120T200000
DTEND;TZID=America/Toronto:20190120T220000
END:VEVENT
END:VCALENDAR
