BEGIN:VCALENDAR
PRODID:-//eluceo/ical//2.0/EN
VERSION:2.0
CALSCALE:GREGORIAN
BEGIN:VEVENT
UID:b6c3738d0dcc79b85ee215bd42d26c7f
DTSTAMP:20260421T125039Z
SUMMARY:Jewish Folks Telling Jokes
DESCRIPTION:UJA Federation of Greater Toronto\nOntario Jewish Heritage Mont
 h Calendar\nhttps://jewishtoronto.com/ojhm-calendar/jewish-folks-telling-j
 okes-1459261457\n\nJewish Folks Telling Jokes is an evening to celebrate t
 he jokes that reflect our culture and honour those that have the special g
 ift of ‘telling a good story’. This event will showcase family\, frien
 ds\, and members of our community who have come together to share the stor
 ies and jokes that have been making us laugh for generations.\n
DTSTART;TZID=America/Toronto:20160531T193000
DTEND;TZID=America/Toronto:20160531T223000
END:VEVENT
END:VCALENDAR
