BEGIN:VCALENDAR
PRODID:-//eluceo/ical//2.0/EN
VERSION:2.0
CALSCALE:GREGORIAN
BEGIN:VEVENT
UID:ec3b7d1df2a484b5fb13fddc27622102
DTSTAMP:20260424T022651Z
SUMMARY:Israeli Dance Celebration with Sagi Azran
DESCRIPTION:UJA Federation of Greater Toronto\nOntario Jewish Heritage Mont
 h Calendar\nhttps://jewishtoronto.com/ojhm-calendar/israeli-dance-celebrat
 ion-with-sagi-azran-1459351374\n\nWith his captivating charisma and extens
 ive knowledge in Israeli dance\, Sagi has been a teacher\, session leader 
 and a choreographer since he was a teenager. When he was a kid\, Sagi was 
 mentored by Misha’el Barzilay\, one of the most appreciated personalitie
 s in the world of Israeli dance. He was only 9 years old when Misha’el a
 sked him to teach a dance to a crowd of 250 dancers. Ever since then\, wit
 h the help of his father and Misha’el\, Sagi perfected his teaching in e
 very way he could. ...
DTSTART;TZID=America/Toronto:20160514T200000
DTEND;TZID=America/Toronto:20160514T235500
END:VEVENT
END:VCALENDAR
