BEGIN:VCALENDAR
PRODID:-//eluceo/ical//2.0/EN
VERSION:2.0
CALSCALE:GREGORIAN
BEGIN:VEVENT
UID:bc6e3b0ed521a140b0904b8ea4999315
DTSTAMP:20260424T034952Z
SUMMARY:Israeli Dance Celebration with Sagi Azran - Couples Dancing
DESCRIPTION:UJA Federation of Greater Toronto\nOntario Jewish Heritage Mont
 h Calendar\nhttps://jewishtoronto.com/ojhm-calendar/israeli-dance-celebrat
 ion-with-sagi-azran---couples-dancing-1459351973\n\nWith his captivating c
 harisma and extensive knowledge in Israeli dance\, Sagi has been a teacher
 \, session leader and a choreographer since he was a teenager. When he was
  a kid\, Sagi was mentored by Misha’el Barzilay\, one of the most apprec
 iated personalities in the world of Israeli dance. He was only 9 years old
  when Misha’el asked him to teach a dance to a crowd of 250 dancers. Eve
 r since then\, with the help of his father and Misha’el\, Sagi perfected
  his teaching in every way he could. ...
DTSTART;TZID=America/Toronto:20160515T160000
DTEND;TZID=America/Toronto:20160515T190000
END:VEVENT
END:VCALENDAR
