BEGIN:VCALENDAR
PRODID:-//eluceo/ical//2.0/EN
VERSION:2.0
CALSCALE:GREGORIAN
BEGIN:VEVENT
UID:47e3aa3e98a34adacac599f77413917d
DTSTAMP:20260422T183042Z
SUMMARY:Hachnasat Torah (inauguration) in Toronto's Indian-Jewish Community
DESCRIPTION:UJA Federation of Greater Toronto\nOntario Jewish Heritage Mont
 h Calendar\nhttps://jewishtoronto.com/ojhm-calendar/hachnasat-torah-inaugu
 ration-in-torontos-indian-jewish-community-1505405834\n\nA rare opportunit
 y to experience a  ’Hachnasat Torah’ event. Witness the completion of 
 a hand written Torah scroll\, the celebration of welcoming it to it’s ne
 w home and meet some of warm families of the new Indian-Jewish community i
 n Thornill. Kosher Indian foods are a thing to experience too.
DTSTART;TZID=America/Toronto:20170917T150000
DTEND;TZID=America/Toronto:20170917T170000
END:VEVENT
END:VCALENDAR
