BEGIN:VCALENDAR
PRODID:-//eluceo/ical//2.0/EN
VERSION:2.0
CALSCALE:GREGORIAN
BEGIN:VEVENT
UID:43f83eb76f3e3e222308434e1ddb4364
DTSTAMP:20260419T235309Z
SUMMARY:Comic Adaptations of Jewish Stories: A Panel Discussion
DESCRIPTION:UJA Federation of Greater Toronto\nOntario Jewish Heritage Mont
 h Calendar\nhttps://jewishtoronto.com/ojhm-calendar/comic-adaptations-of-j
 ewish-stories-a-panel-discussion-1460663046\n\nWith Steven Bergson\, Liat 
 Shalom\, Ellis Rosen and David G. Klein. Moderated by Keith Friedlander.\n
 At the Miles Nadal JCC\, room 318\nFREE
DTSTART;TZID=America/Toronto:20160515T190000
DTEND;TZID=America/Toronto:20160515T210000
END:VEVENT
END:VCALENDAR
