BEGIN:VCALENDAR
PRODID:-//eluceo/ical//2.0/EN
VERSION:2.0
CALSCALE:GREGORIAN
BEGIN:VEVENT
UID:dfbd676aa0df10f10c574d34b1dd06e1
DTSTAMP:20260422T222744Z
SUMMARY:Career Advice for Persons with Disabilities
DESCRIPTION:UJA Federation of Greater Toronto\nOntario Jewish Heritage Mont
 h Calendar\nhttps://jewishtoronto.com/ojhm-calendar/career-advice-for-pers
 ons-with-disabilities-1491574546\n\nFREE interactive forum and networking 
 event! A panel of experts in supported employment for persons with disabil
 ities will provide strategies for achieving goals in the Canadian labour m
 arket. The event will feature roundtable discussion\, a Q&A session with e
 mployment experts\, light refreshments\, and networking opportunities.
DTSTART;TZID=America/Toronto:20170511T183000
DTEND;TZID=America/Toronto:20170511T203000
END:VEVENT
END:VCALENDAR
