BEGIN:VCALENDAR
PRODID:-//eluceo/ical//2.0/EN
VERSION:2.0
CALSCALE:GREGORIAN
BEGIN:VEVENT
UID:afb7d3113914444dfcc61cdf42dd7559
DTSTAMP:20260424T070439Z
SUMMARY:Zareinu Poker Tournament
DESCRIPTION:UJA Federation of Greater Toronto\nJewish Toronto Calendar\nhtt
 ps://jewishtoronto.com/calendar/zareinu-poker-tournament\n\nCall for more 
 details.\n\n \n\n \n\n \n\n 
DTSTART;TZID=America/Toronto:20150307T200000
DTEND;TZID=America/Toronto:20150307T235900
END:VEVENT
END:VCALENDAR
