BEGIN:VCALENDAR
PRODID:-//eluceo/ical//2.0/EN
VERSION:2.0
CALSCALE:GREGORIAN
BEGIN:VEVENT
UID:3d792b9a81523bbd5b3213e5b21a3fcf
DTSTAMP:20260422T143102Z
SUMMARY:Zareinu Golf Tournament 2015
DESCRIPTION:UJA Federation of Greater Toronto\nJewish Toronto Calendar\nhtt
 ps://jewishtoronto.com/calendar/zareinu-golf-tournament-2015\n\nMore infor
 mation to follow.\n\n 
DTSTART;TZID=America/Toronto:20150519T070000
DTEND;TZID=America/Toronto:20150519T210000
END:VEVENT
END:VCALENDAR
