BEGIN:VCALENDAR
PRODID:-//eluceo/ical//2.0/EN
VERSION:2.0
CALSCALE:GREGORIAN
BEGIN:VEVENT
UID:79d38bbade4c0ef1f1c5b2c04ff87673
DTSTAMP:20260422T150109Z
SUMMARY:Zareinu Fashion Show
DESCRIPTION:UJA Federation of Greater Toronto\nJewish Toronto Calendar\nhtt
 ps://jewishtoronto.com/calendar/zareinu-fashion-show\n\nZareinu Fashion Sh
 ow\n 
DTSTART;TZID=America/Toronto:20141110T190000
DTEND;TZID=America/Toronto:20141110T210000
END:VEVENT
END:VCALENDAR
