BEGIN:VCALENDAR
PRODID:-//eluceo/ical//2.0/EN
VERSION:2.0
CALSCALE:GREGORIAN
BEGIN:VEVENT
UID:99aed769ae6a29e447cec490e0d75314
DTSTAMP:20260420T015919Z
SUMMARY:YPO East/THM: Training
DESCRIPTION:UJA Federation of Greater Toronto\nJewish Toronto Calendar\nhtt
 ps://jewishtoronto.com/calendar/ypo-eastthm-antisemitism-training\n\nDetai
 ls coming soon. 
DTSTART;TZID=America/Toronto:20260304T160000
DTEND;TZID=America/Toronto:20260304T190000
END:VEVENT
END:VCALENDAR
