BEGIN:VCALENDAR
PRODID:-//eluceo/ical//2.0/EN
VERSION:2.0
CALSCALE:GREGORIAN
BEGIN:VEVENT
UID:c65bb2e057b442d2b97077016d0d7339
DTSTAMP:20260421T092835Z
SUMMARY:Youth Pajama Party and Movie Night
DESCRIPTION:UJA Federation of Greater Toronto\nJewish Toronto Calendar\nhtt
 ps://jewishtoronto.com/calendar/youth-pajama-party-and-movie-night\n\nHavd
 allah and Movie Night in your best PJs! Havdallah starts at 7 pm followed 
 by movie at 7:20 pm Snacks and Drinks included. Contact:  905 889 4975 ex
 t. 62 Cost: Free
DTSTART;TZID=America/Toronto:20140222T190000
DTEND;TZID=America/Toronto:20140222T223000
END:VEVENT
END:VCALENDAR
