BEGIN:VCALENDAR
PRODID:-//eluceo/ical//2.0/EN
VERSION:2.0
CALSCALE:GREGORIAN
BEGIN:VEVENT
UID:87f21e38b5445918d5c1e152e19c3f39
DTSTAMP:20260421T193652Z
SUMMARY:Youth Havdallah and Movie PJ Party at Shaar Shalom Synagogue
DESCRIPTION:UJA Federation of Greater Toronto\nJewish Toronto Calendar\nhtt
 ps://jewishtoronto.com/calendar/youth-havdallah-and-movie-pj-party-at-shaa
 r-shalom-synagogue\n\nCall or email for more details.
DTSTART;TZID=America/Toronto:20150110T174500
DTEND;TZID=America/Toronto:20150110T213000
END:VEVENT
END:VCALENDAR
