BEGIN:VCALENDAR
PRODID:-//eluceo/ical//2.0/EN
VERSION:2.0
CALSCALE:GREGORIAN
BEGIN:VEVENT
UID:48adff530d64fa236eebcfeef8e0b0b3
DTSTAMP:20260424T184929Z
SUMMARY:Your Internet is Unstable
DESCRIPTION:UJA Federation of Greater Toronto\nJewish Toronto Calendar\nhtt
 ps://jewishtoronto.com/calendar/your-internet-is-unstable-1622163748\n\nCo
 ndo living in the time of Covid. Zoom in on the residents of Lawfty Towers
 \, where lockdown life tests their bandwidth.\n\nWritten by the playwright
 s of ACT II STUDIO and directed by Vrenia Ivonoffski\, Varda Shomrony\, an
 d Cathy Shilton.\n\nThree performances live on Zoom: Friday\, June 18th @7
 :00 PM EDT / Saturday\, June 19th @2:00 PM EDT / Saturday\, June 19th @7:0
 0 PM EDT\n\nTickets are $15.00 (including fees)\n\n* This will be a live o
 n-line performance. The zoom link will be sent to...
DTSTART;TZID=America/Toronto:20210618T190000
DTEND;TZID=America/Toronto:20210618T213000
END:VEVENT
END:VCALENDAR
