BEGIN:VCALENDAR
PRODID:-//eluceo/ical//2.0/EN
VERSION:2.0
CALSCALE:GREGORIAN
BEGIN:VEVENT
UID:03162a6cef9e9e56b9cb539ff3f45473
DTSTAMP:20260421T143533Z
SUMMARY:Young Professionals Summer Giveback
DESCRIPTION:UJA Federation of Greater Toronto\nJewish Toronto Calendar\nhtt
 ps://jewishtoronto.com/calendar/young-professionals-summer-giveback-149971
 3783\n\nJoin Beth David Young Professionals this summer in preparing and s
 erving a meal for those in need in downtown Toronto. We will be meeting at
  Evangel Hall Mission for this tikkun olam opportunity. This program is ge
 ared towards those in their 20s and 30s. Preregistration required. 15 peop
 le per session maximum (alternate trip on July 23 - check the Beth David w
 ebsite for more info).
DTSTART;TZID=America/Toronto:20170820T143000
DTEND;TZID=America/Toronto:20170820T183000
END:VEVENT
END:VCALENDAR
