BEGIN:VCALENDAR
PRODID:-//eluceo/ical//2.0/EN
VERSION:2.0
CALSCALE:GREGORIAN
BEGIN:VEVENT
UID:86a9032b48da7ad47cce48e9a02f363f
DTSTAMP:20260424T200022Z
SUMMARY:Young Professionals & Entrepreneurs Networking Night
DESCRIPTION:UJA Federation of Greater Toronto\nJewish Toronto Calendar\nhtt
 ps://jewishtoronto.com/calendar/young-professionals-entrepreneurs-networki
 ng-night\n\nYoung Professionals & Entrepreneurs Networking Night
DTSTART;TZID=America/Toronto:20150427T183000
DTEND;TZID=America/Toronto:20150427T200000
END:VEVENT
END:VCALENDAR
