BEGIN:VCALENDAR
PRODID:-//eluceo/ical//2.0/EN
VERSION:2.0
CALSCALE:GREGORIAN
BEGIN:VEVENT
UID:3d7312da1797ed1f467a3a11284451e4
DTSTAMP:20260421T181834Z
SUMMARY:Young Leaders Social Night Host by the Young Real Estate Division
DESCRIPTION:UJA Federation of Greater Toronto\nJewish Toronto Calendar\nhtt
 ps://jewishtoronto.com/calendar/young-leaders-social-night-host-by-the-you
 ng-real-estate-division\n\nYoung Leaders Social Night Host by the Young Re
 al Estate Division
DTSTART;TZID=America/Toronto:20140722T183000
DTEND;TZID=America/Toronto:20140722T203000
END:VEVENT
END:VCALENDAR
