BEGIN:VCALENDAR
PRODID:-//eluceo/ical//2.0/EN
VERSION:2.0
CALSCALE:GREGORIAN
BEGIN:VEVENT
UID:18e2b280976333fa324e89f4d7ab1b16
DTSTAMP:20260421T084833Z
SUMMARY:UJA Young Leaders - Hands on Volunteering
DESCRIPTION:UJA Federation of Greater Toronto\nJewish Toronto Calendar\nhtt
 ps://jewishtoronto.com/calendar/young-leaders-hands-on-volunteering-146851
 0770\n\nAn opportunity to volunteer in the community.\nRegistration is req
 uired\, space is limited
DTSTART;TZID=America/Toronto:20161218T140000
DTEND;TZID=America/Toronto:20161218T160000
END:VEVENT
END:VCALENDAR
