BEGIN:VCALENDAR
PRODID:-//eluceo/ical//2.0/EN
VERSION:2.0
CALSCALE:GREGORIAN
BEGIN:VEVENT
UID:b0e9d403e9187c7b41b30ea4591b7b62
DTSTAMP:20260425T205449Z
SUMMARY:UJA Young Leaders - Dinner of Miracles
DESCRIPTION:UJA Federation of Greater Toronto\nJewish Toronto Calendar\nhtt
 ps://jewishtoronto.com/calendar/young-leaders-dinner-of-miracles-146851041
 6\n\nDetails to be provided at a later date
DTSTART;TZID=America/Toronto:20161107T183000
DTEND;TZID=America/Toronto:20161107T210000
END:VEVENT
END:VCALENDAR
