BEGIN:VCALENDAR
PRODID:-//eluceo/ical//2.0/EN
VERSION:2.0
CALSCALE:GREGORIAN
BEGIN:VEVENT
UID:9318174dbe72472a2a516d669c604a5e
DTSTAMP:20260420T011518Z
SUMMARY:Young Adults Shabbat Dinner & Cocktails
DESCRIPTION:UJA Federation of Greater Toronto\nJewish Toronto Calendar\nhtt
 ps://jewishtoronto.com/calendar/young-adults-shabbat-dinner--cocktails-176
 8232223\n\nAdath Israel Young Adults and friends join us to a lovely dinne
 r and cocktails.
DTSTART;TZID=America/Toronto:20260123T180000
DTEND;TZID=America/Toronto:20260123T210000
END:VEVENT
END:VCALENDAR
