BEGIN:VCALENDAR
PRODID:-//eluceo/ical//2.0/EN
VERSION:2.0
CALSCALE:GREGORIAN
BEGIN:VEVENT
UID:e42bc40a5c0cce727db9fa3087a91d7d
DTSTAMP:20260420T100237Z
SUMMARY:York Region Townhall
DESCRIPTION:UJA Federation of Greater Toronto\nJewish Toronto Calendar\nhtt
 ps://jewishtoronto.com/calendar/york-region-townhall-1673029054\n\nLocatio
 n. Schwartz Reisman Centre\n9600 Bathurst St.\, Maple\, ON\n\nMore info   
 http://bit.ly/YRantisemitismtownhall
DTSTART;TZID=America/Toronto:20230118T193000
DTEND;TZID=America/Toronto:20230118T213000
END:VEVENT
END:VCALENDAR
