BEGIN:VCALENDAR
PRODID:-//eluceo/ical//2.0/EN
VERSION:2.0
CALSCALE:GREGORIAN
BEGIN:VEVENT
UID:0e0c6cb9e617e3b6262d230c2d0389af
DTSTAMP:20260424T052121Z
SUMMARY:Yonina. Let’s Sing Together
DESCRIPTION:UJA Federation of Greater Toronto\nJewish Toronto Calendar\nhtt
 ps://jewishtoronto.com/calendar/yonina-lets-sing-together-1761835156\n\nJo
 in us for a family friendly concert with this husband and wife team straig
 ht from Israel.  Be prepared to sing and clap along to tunes we know and l
 ove
DTSTART;TZID=America/Toronto:20251102T140000
DTEND;TZID=America/Toronto:20251102T160000
END:VEVENT
END:VCALENDAR
