BEGIN:VCALENDAR
PRODID:-//eluceo/ical//2.0/EN
VERSION:2.0
CALSCALE:GREGORIAN
BEGIN:VEVENT
UID:3a968975dd8613eaf222ce5eab041b56
DTSTAMP:20260424T045139Z
SUMMARY:Yom Yerushalyim Farewell Reception
DESCRIPTION:UJA Federation of Greater Toronto\nJewish Toronto Calendar\nhtt
 ps://jewishtoronto.com/calendar/yom-yerushalyim-farewell-reception-1742859
 607\n\nBnei Akiva Schools is hosting a Yom Yerushalyim farewell dessert re
 ception for retiring staff and shlichim
DTSTART;TZID=America/Toronto:20250526T200000
DTEND;TZID=America/Toronto:20250526T220000
END:VEVENT
END:VCALENDAR
