BEGIN:VCALENDAR
PRODID:-//eluceo/ical//2.0/EN
VERSION:2.0
CALSCALE:GREGORIAN
BEGIN:VEVENT
UID:e0459f67367d1a914dece805f6979aa7
DTSTAMP:20260424T132940Z
SUMMARY:Yom Yerushalayim Concert
DESCRIPTION:UJA Federation of Greater Toronto\nJewish Toronto Calendar\nhtt
 ps://jewishtoronto.com/calendar/yom-yerushalayim-concert\n\nYom Yerushalay
 im Concert Featuring the King of Kosher Gospel - Joshua Nelson & Friends\n
 \nWith: Lisa Sonshine\, Marshall Loomer\, Rebecca Finkelstein\, Two Moishe
 s - Michael Rubin & Marshall Loomer and Gal Fuchs\n\nAlso  featuring: The
  Nafshi Band -  Alan Direnfeld Drums\, Arnold Davidson Bass\, Jeff Weisbr
 ot Keyboard\, Martin Loomer Guitar\n\nGeneral Admission $50    \n\nPremi
 um Admission $100  \n\nBuy tickets by calling 416-633-5500 ext. 0 or at w
 ww.bethdavid.com\n\n \n\n \n\n \n \n\n\n 
DTSTART;TZID=America/Toronto:20150517T200000
DTEND;TZID=America/Toronto:20150517T220000
END:VEVENT
END:VCALENDAR
