BEGIN:VCALENDAR
PRODID:-//eluceo/ical//2.0/EN
VERSION:2.0
CALSCALE:GREGORIAN
BEGIN:VEVENT
UID:f49073a47554cca1d2feb53104d8ad4e
DTSTAMP:20260421T230000Z
SUMMARY:Yom Yerushalayim
DESCRIPTION:UJA Federation of Greater Toronto\nJewish Toronto Calendar\nhtt
 ps://jewishtoronto.com/calendar/yom-yerushalayim\n\nYom Yerushalayim
DTSTART;TZID=America/Toronto:20150517T000000
DTEND;TZID=America/Toronto:20150517T000000
END:VEVENT
END:VCALENDAR
