BEGIN:VCALENDAR
PRODID:-//eluceo/ical//2.0/EN
VERSION:2.0
CALSCALE:GREGORIAN
BEGIN:VEVENT
UID:e2eb0c2fbb8181871c10705d8be93631
DTSTAMP:20260422T050902Z
SUMMARY:Yom Kippur at The Song Shul
DESCRIPTION:UJA Federation of Greater Toronto\nJewish Toronto Calendar\nhtt
 ps://jewishtoronto.com/calendar/yom-kippur-at-the-song-shul-1570463126\n\n
 Yom Kippur at The Song Shul The most exquisite\, musical and inspirational
  Yom Kippur service you've ever experienced. Featuring world-renowned Cant
 or Simon Spiro and the Toronto Festival Singers\, the finest synagogue cho
 ir in North America. Musical guest Micah Barnes Speakers Sue-Ann Levy\, Au
 thor and Investigative Columnist\, The Toronto Star  Julian Brass\, Author
  of “Own your Anxiety\,” Ne’ila (end of Yom Kippur) Music\, Meaning\
 , Inspiration. Rethink Yom Kippur.
DTSTART;TZID=America/Toronto:20191009T090000
DTEND;TZID=America/Toronto:20191009T200300
END:VEVENT
END:VCALENDAR
