BEGIN:VCALENDAR
PRODID:-//eluceo/ical//2.0/EN
VERSION:2.0
CALSCALE:GREGORIAN
BEGIN:VEVENT
UID:4860b882da0296b5ae388e0d374ab24d
DTSTAMP:20260420T093256Z
SUMMARY:Yom Kippur at The Song Shul
DESCRIPTION:UJA Federation of Greater Toronto\nJewish Toronto Calendar\nhtt
 ps://jewishtoronto.com/calendar/yom-kippur-at-the-song-shul-1536925966\n\n
 Yom Kippur at The Song Shul\nThe most exquisite\, musical and inspirationa
 l Yom Kippur service you've ever experienced. Featuring world-renowned Can
 tor Simon Spiro and the Toronto Festival Singers\, the finest synagogue ch
 oir in North America.\nMusical guests Amy Sky and Mark Masri.\nSpeakers Sh
 ai DeLuca-Tamasi and Brian Goldman (author\, The Power of Kindness). Music
 \, Meaning\, Inspiration. Rethink Yom Kippur.
DTSTART;TZID=America/Toronto:20180919T090000
DTEND;TZID=America/Toronto:20180919T200300
END:VEVENT
END:VCALENDAR
