BEGIN:VCALENDAR
PRODID:-//eluceo/ical//2.0/EN
VERSION:2.0
CALSCALE:GREGORIAN
BEGIN:VEVENT
UID:1b148177ac59969ff6009eb5abc58934
DTSTAMP:20260422T070601Z
SUMMARY:Yom HaZikaron
DESCRIPTION:UJA Federation of Greater Toronto\nJewish Toronto Calendar\nhtt
 ps://jewishtoronto.com/calendar/yom-hazikaron2026-489031\n\n
DTSTART;TZID=America/Toronto:20260421T000000
DTEND;TZID=America/Toronto:20260421T235959
END:VEVENT
END:VCALENDAR
