BEGIN:VCALENDAR
PRODID:-//eluceo/ical//2.0/EN
VERSION:2.0
CALSCALE:GREGORIAN
BEGIN:VEVENT
UID:feda810009abadcf19693e4fb4035022
DTSTAMP:20260424T124101Z
SUMMARY:Yom Hazikaron Ceremony led by UJA ShinShinim
DESCRIPTION:UJA Federation of Greater Toronto\nJewish Toronto Calendar\nhtt
 ps://jewishtoronto.com/calendar/yom-hazikaron-ceremony-led-by-uja-shinshin
 im\n\nTo RSVP or for more information please reach out to Yuval Cohen ycoh
 en@ujafed.org
DTSTART;TZID=America/Toronto:20230423T180000
DTEND;TZID=America/Toronto:20230423T200000
END:VEVENT
END:VCALENDAR
