BEGIN:VCALENDAR
PRODID:-//eluceo/ical//2.0/EN
VERSION:2.0
CALSCALE:GREGORIAN
BEGIN:VEVENT
UID:15b9c8e2ef730ebcfc17c584e7b6d45c
DTSTAMP:20260426T042403Z
SUMMARY:UJA ShinShinim | Yom Hazikaron Ceremony
DESCRIPTION:UJA Federation of Greater Toronto\nJewish Toronto Calendar\nhtt
 ps://jewishtoronto.com/calendar/yom-hazikaron-ceremony-led-by-the-uja-shin
 shinim-1708716736\n\nFor more information please reach out to Lior Hameiri
 : lhameiri@ujafed.org 
DTSTART;TZID=America/Toronto:20240509T190000
DTEND;TZID=America/Toronto:20240509T200000
END:VEVENT
END:VCALENDAR
