BEGIN:VCALENDAR
PRODID:-//eluceo/ical//2.0/EN
VERSION:2.0
CALSCALE:GREGORIAN
BEGIN:VEVENT
UID:2c4e7471e0be1d4ecc2b200af049d895
DTSTAMP:20260420T094243Z
SUMMARY:CANCELLED: Yom Hashoah 2020 - Young Professionals' Commemoration
DESCRIPTION:UJA Federation of Greater Toronto\nJewish Toronto Calendar\nhtt
 ps://jewishtoronto.com/calendar/yom-hashoah-yp-338955\n\nDetails forthcomi
 ng for the Neuberger's annual Yom Hashoah commemoration for young professi
 onals.
DTSTART;TZID=America/Toronto:20200421T000000
DTEND;TZID=America/Toronto:20200421T235959
END:VEVENT
END:VCALENDAR
