BEGIN:VCALENDAR
PRODID:-//eluceo/ical//2.0/EN
VERSION:2.0
CALSCALE:GREGORIAN
BEGIN:VEVENT
UID:d05964aec4618368f75ced575ad3ed87
DTSTAMP:20260420T064016Z
SUMMARY:Yom HaShoah - We Remember Together
DESCRIPTION:UJA Federation of Greater Toronto\nJewish Toronto Calendar\nhtt
 ps://jewishtoronto.com/calendar/yom-hashoah-we-remember-together\n\nYom Ha
 Shoah\nWe Remember Together\nPresented by the Miles Nadal JCC with the Azr
 ieli Foundation\nThursday April 16 | 2:00 – 3:00 pm (Doors open at 1:30 
 pm)\nHolocaust Remembrance Day Memorial service facilitated by Kohenet Ann
 ie Matan\nWith local survivor and author of The Hidden Package\, Claire Ba
 um\nGuests will receive a complimentary copy of Ms. Baum’s memoir.\nFREE
 \nRSVP: Annie Matan anniem@mnjcc.org  (416) 924-6211 x 388\n 
DTSTART;TZID=America/Toronto:20150416T140000
DTEND;TZID=America/Toronto:20150416T150000
END:VEVENT
END:VCALENDAR
