BEGIN:VCALENDAR
PRODID:-//eluceo/ical//2.0/EN
VERSION:2.0
CALSCALE:GREGORIAN
BEGIN:VEVENT
UID:ffbc15888296af31980c7f258bcd702f
DTSTAMP:20260422T015715Z
SUMMARY:Yom Hashoah V’Hagvurah Community Commemoration
DESCRIPTION:UJA Federation of Greater Toronto\nJewish Toronto Calendar\nhtt
 ps://jewishtoronto.com/calendar/yom-hashoah-vhagvurah-community-commemorat
 ion\n\nSponsored by Sarah & Chaim Neuberger Holocaust Education Centre\, U
 JA Federation\n\nMore details to follow.
DTSTART;TZID=America/Toronto:20150419T110000
DTEND;TZID=America/Toronto:20150419T123000
END:VEVENT
END:VCALENDAR
