BEGIN:VCALENDAR
PRODID:-//eluceo/ical//2.0/EN
VERSION:2.0
CALSCALE:GREGORIAN
BEGIN:VEVENT
UID:e99d6dd51f5b1a8f7ec18b799045f897
DTSTAMP:20260419T221255Z
SUMMARY:Yom Hashoah Memorial
DESCRIPTION:UJA Federation of Greater Toronto\nJewish Toronto Calendar\nhtt
 ps://jewishtoronto.com/calendar/yom-hashoah-memorial-1459349106-186323\n\n
 Join us for our annual Yom Hashoa commemorative program at the Schwartz/Re
 isman Centre.\nThe Center hosts the observance each year to remember the l
 ives of the six million Jews who died during the Holocaust and to honour t
 he Survivors.
DTSTART;TZID=America/Toronto:20160505T110000
DTEND;TZID=America/Toronto:20160506T070000
END:VEVENT
END:VCALENDAR
